BEGIN:VCALENDAR
VERSION:2.0
PRODID:-//Friends of the Whittier Library - ECPv6.15.0//NONSGML v1.0//EN
CALSCALE:GREGORIAN
METHOD:PUBLISH
X-ORIGINAL-URL:https://www.whittierlibraryfriends.org
X-WR-CALDESC:Events for Friends of the Whittier Library
REFRESH-INTERVAL;VALUE=DURATION:PT1H
X-Robots-Tag:noindex
X-PUBLISHED-TTL:PT1H
BEGIN:VTIMEZONE
TZID:America/Los_Angeles
BEGIN:DAYLIGHT
TZOFFSETFROM:-0800
TZOFFSETTO:-0700
TZNAME:PDT
DTSTART:20250309T100000
END:DAYLIGHT
BEGIN:STANDARD
TZOFFSETFROM:-0700
TZOFFSETTO:-0800
TZNAME:PST
DTSTART:20251102T090000
END:STANDARD
END:VTIMEZONE
BEGIN:VEVENT
DTSTART;TZID=America/Los_Angeles:20251102T080000
DTEND;TZID=America/Los_Angeles:20251119T170000
DTSTAMP:20260420T070827
CREATED:20251102T164635Z
LAST-MODIFIED:20251102T164635Z
UID:432-1762070400-1763571600@www.whittierlibraryfriends.org
SUMMARY:No Donations till Nov 20\, 2025
DESCRIPTION:In order to support the Fall sale\, donations are suspended.
URL:https://www.whittierlibraryfriends.org/calendar/no-donations-till-nov-20-2025/
ATTACH;FMTTYPE=image/png:https://www.whittierlibraryfriends.org/wp-content/uploads/2025/05/kinglarvae_Please_make_a_No_Donations_of_books_and_media_in_a_b2f87809-82af-428a-bde9-1eb668305f52_3.png
END:VEVENT
END:VCALENDAR